BEGIN:VCALENDAR
VERSION:2.0
PRODID:-//wp-events-plugin.com//7.0.4//EN
TZID:America/New_York
X-WR-TIMEZONE:America/New_York
BEGIN:VEVENT
UID:48@centerforbiotechnology.org
DTSTART:20190115T083000Z
DTEND:20190116T120000Z
DTSTAMP:20181218T193047Z
URL:https://centerforbiotechnology.org/events/sbirsttr-intensive-2019/
SUMMARY:SBIR/STTR Intensive Workshop: NIH Focused (1.5 Days)
DESCRIPTION:Learn more about SBIR/STTR funding at this 1.5-day session focu
 sed on the National Institutes of Health (NIH) which will cover program es
 sentials and how to compete for funding. 
LOCATION:Long Island High Technology Incubator (LIHTI) \, 25 Health Science
 s Dr.\, Stony Brook\, NY\, 11794\, United States
GEO:40.904084;-73.1156689
X-APPLE-STRUCTURED-LOCATION;VALUE=URI;X-ADDRESS=25 Health Sciences Dr.\, St
 ony Brook\, NY\, 11794\, United States;X-APPLE-RADIUS=100;X-TITLE=Long Isl
 and High Technology Incubator (LIHTI) :geo:40.904084,-73.1156689
END:VEVENT
END:VCALENDAR